BEGIN:VCALENDAR
VERSION:2.0
PRODID:-//https://www.mapm.org///NONSGML kigkonsult.se iCalcreator 2.10.15//
METHOD:PUBLISH
BEGIN:VEVENT
UID:20260424T172704UTC-4306zHwtr1@https://www.mapm.org/
DTSTAMP:20260424T172704Z
DESCRIPTION: https://www.mapm.org/events/calendar/event/189-new-event
DTSTART:20190821T185200Z
DTEND:20190822T205200Z
LOCATION:TBD ()
SUMMARY:New event
URL:https://www.mapm.org/events/calendar/event/189-new-event
END:VEVENT
END:VCALENDAR
