BEGIN:VCALENDAR
VERSION:2.0
PRODID:-//https://www.mapm.org///NONSGML kigkonsult.se iCalcreator 2.10.15//
METHOD:PUBLISH
BEGIN:VEVENT
UID:20260424T065910UTC-9857PCHj7E@https://www.mapm.org/
DTSTAMP:20260424T065910Z
DESCRIPTION: https://www.mapm.org/events/calendar/event/225-jacob-test-even
 t
DTSTART:20191017T200523Z
DTEND:20191017T220523Z
LOCATION:RSEvents!Pro Location (Colorado\, USA)
SUMMARY:Jacob Test Event
URL:https://www.mapm.org/events/calendar/event/225-jacob-test-event
END:VEVENT
END:VCALENDAR
