BEGIN:VCALENDAR
VERSION:2.0
PRODID:-//https://www.mapm.org///NONSGML kigkonsult.se iCalcreator 2.10.15//
METHOD:PUBLISH
BEGIN:VEVENT
UID:20260422T215902UTC-6685CrTbpB@https://www.mapm.org/
DTSTAMP:20260422T215902Z
DESCRIPTION:Don't miss this one of a kind event! Details and tickets availa
 ble at&nbsp\;http://aqsamn.org/&nbsp\;or (612)234-7250. ($20 event ticket\
 ; $10 food ticket for one meal)\nPalestine Day is a community event hosted
  annually by Al Aqsa Institute to promote cultural and educational aspects
  of the Palestinian community and to build bridges of understanding and pe
 ace with other communities in Minnesota. https://www.mapm.org/events/calen
 dar/event/242-19th-annual-palestine-day-palestinian-women-a-symbol-of-resi
 stance
DTSTART:20200404T090000Z
DTEND:20200404T220000Z
LOCATION:Spring Lake Park High School (1100 81st Ave NE Spring Lake Park\, 
 MN 55432)
SUMMARY:19th Annual Palestine Day: Palestinian Women\, A Symbol of Resistan
 ce
URL:https://www.mapm.org/events/calendar/event/242-19th-annual-palestine-da
 y-palestinian-women-a-symbol-of-resistance
END:VEVENT
END:VCALENDAR
