BEGIN:VCALENDAR
VERSION:2.0
PRODID:-//https://www.mapm.org///NONSGML kigkonsult.se iCalcreator 2.10.15//
METHOD:PUBLISH
BEGIN:VEVENT
UID:20260422T174432UTC-7194DKPg25@https://www.mapm.org/
DTSTAMP:20260422T174432Z
DESCRIPTION:Peace and Social Justice Writers’ Group\n\nWhen: Fourth Monday 
 monthly\, 6:30–8:30 p.m.Facilitator: Philip Lund\, loftpeacewriters@gmail.
 com\nThis group is comprised of writers who consciously explore the nature
  of peace\, and through our activities aim to renew and maintain a sense o
 f hope for the future. By sharing our writing and discussing the works of 
 writers who inspire and move us toward action\, we endeavor to refine our 
 talents and use our creative craft to promote peace and sustainable justic
 e in our world. The group is open to all experience levels and writing gen
 res. This group meets January through October.\n https://www.mapm.org/even
 ts/calendar/event/257-peace-social-justice-writer-s-group
DTSTART:20200323T183000Z
DTEND:20200323T203000Z
LOCATION:The Loft Literary Center (1011 Washington Avenue South\, Open Book
 \, Suite 200\, Minneapolis\, MN 55415\, United States)
SUMMARY:Peace & Social Justice Writer's Group
URL:https://www.mapm.org/events/calendar/event/257-peace-social-justice-wri
 ter-s-group
END:VEVENT
END:VCALENDAR
