BEGIN:VCALENDAR
VERSION:2.0
PRODID:-//https://www.mapm.org///NONSGML kigkonsult.se iCalcreator 2.10.15//
METHOD:PUBLISH
BEGIN:VEVENT
UID:20260423T003132UTC-6525Kvmeuv@https://www.mapm.org/
DTSTAMP:20260423T003132Z
DESCRIPTION:UNA-MN Spring Conference Registration Form HERE.This form will 
 register your high school for the UNA-MN High School Model United Nations 
 Spring Conference hosted at the University of Minnesota on March 19th\, 20
 20 from 9 am-3 pm. The cost is $30 per delegate\, which includes lunch. In
 voices will follow after the final registration date on February 27th\, 20
 20. If you need to change any information on your registration\, please re
 ach out to us! Registration numbers are final after the 27th unless otherw
 ise communicated with the UNA-MN Conference Coordinators\, and schools wil
 l be billed accordingly.\nIf you have any questions about the registration
  process or the conference\, please feel free to reach out to modelun-mn@u
 namn.org. https://www.mapm.org/events/calendar/event/269-una-mn-high-schoo
 l-model-united-nations-spring-conference-university-of-minnesota-march-19t
 h-2020-from-9-am-3-pm
DTSTART:20200319T090000Z
DTEND:20200320T150000Z
LOCATION:University of Minnesota\, Coffman Memorial Union (300 Washington A
 ve SE\, Minneapolis\, MN 55455\, USA)
SUMMARY:UNA-MN High School Model United Nations Spring Conference\, Univers
 ity of Minnesota\, March 19th\, 2020 from 9 am-3 pm.
URL:https://www.mapm.org/events/calendar/event/269-una-mn-high-school-model
 -united-nations-spring-conference-university-of-minnesota-march-19th-2020-
 from-9-am-3-pm
END:VEVENT
END:VCALENDAR
