BEGIN:VCALENDAR
VERSION:2.0
PRODID:-//https://www.mapm.org///NONSGML kigkonsult.se iCalcreator 2.10.15//
METHOD:PUBLISH
BEGIN:VEVENT
UID:20260423T041543UTC-8791e6JlP0@https://www.mapm.org/
DTSTAMP:20260423T041543Z
DESCRIPTION:\n\n\n\n\n\n\n\n\n\nMaking the Connections: Climate Crisis &amp
 \; U.S. MilitarismSaturday\, February 29\, 2019 10 a.m.4200 Cedar Avenue\,
  Minneapolis MNA presentation by Sue Ann Martinson\, A Q &amp\; A discussi
 on follows. Refreshments. Free and open to the public.Why is an understand
 ing of Militarism necessary to address Climate Crisis and Environmental is
 sues?The Climate Crisis is the greatest threat facing humanity\, and the U
 .S. military is responsible for the most egregious and widespread pollutio
 n of the planet\, yet this information goes almost entirely unreported.In 
 our society and culture militarism touches us in endless ways\, being intr
 icately linked to the most important issues of our day: climate change\, e
 ndless war\, racism and more\, as well as to the U.S. budget with the bill
 ions of dollars the U.S. spends to maintain a global empire.Sponsored by t
 he End War Committee of WAMM and Veterans for Peace Chapter 27.Sue Ann Mar
 tinson has participated in antiwar/ propeace activity over the years with 
 the Honeywell Project\, Alliant Action\, Veterans for Peace and as a long-
 time member of Women Against Military Madness. A writer and editor\, her l
 atest peace and justice activities center around publishing a blog\, Rise 
 Up Times\, Media for Justice and Peace. FFI: 612-827-5364\n https://www.ma
 pm.org/events/calendar/event/273-climate-crisis-and-us-militarism-presenta
 tion-by-sue-ann-martinson
DTSTART:20200229T100000Z
DTEND:20200229T110000Z
LOCATION:4200 Cedar Avenue (4200 Cedar Ave\, Minneapolis\, MN 55407\, USA)
SUMMARY:Climate Crisis and US Militarism\, presentation by Sue Ann Martinso
 n
URL:https://www.mapm.org/events/calendar/event/273-climate-crisis-and-us-mi
 litarism-presentation-by-sue-ann-martinson
END:VEVENT
END:VCALENDAR
