BEGIN:VCALENDAR
VERSION:2.0
PRODID:-//https://www.mapm.org///NONSGML kigkonsult.se iCalcreator 2.10.15//
METHOD:PUBLISH
BEGIN:VEVENT
UID:20260423T053921UTC-4903a8OJtK@https://www.mapm.org/
DTSTAMP:20260423T053921Z
DESCRIPTION:Join Jewish Voice for Peace - Twin Cities (JVP-TC) for the scre
 ening of “Gaza Fights for Freedom\,” a film by the journalist\, author and
  documentarist\, Abby Martin.\nThis film documents the Gaza protest moveme
 nt\, known as the Great March of Return\, which began in 2018 and continue
 d through last year\, during which the Israeli Defense Forces killed more 
 than 200 unarmed Palestinian civilians and injured tens of thousands more.
  Through her collaboration with videographers and journalists on the groun
 d in Gaza\, Martin was able to put together a compelling and important doc
 umentary that mainstream media outlets relying on Israeli government sourc
 es\, cannot provide. Throughout the film historical context and statistics
  are given to allow the viewer to understand the situation in the tiny are
 a of land known as the Gaza Strip.Light snacks and discussion will follow 
 the screening\, along with a chance to meet JVP members\, pick up literatu
 re and purchase our awesome new t-shirts. https://www.mapm.org/events/cale
 ndar/event/275-film-screening-gaza-fights-for-freedom
DTSTART:20200216T140000Z
DTEND:20200216T170000Z
LOCATION:East Side Freedom Library\, (1105 Greenbrier St\, Saint Paul\, Min
 nesota 55106)
SUMMARY:Film Screening: 'Gaza Fights for Freedom'
URL:https://www.mapm.org/events/calendar/event/275-film-screening-gaza-figh
 ts-for-freedom
END:VEVENT
END:VCALENDAR
