BEGIN:VCALENDAR
VERSION:2.0
PRODID:-//https://www.mapm.org///NONSGML kigkonsult.se iCalcreator 2.10.15//
METHOD:PUBLISH
BEGIN:VEVENT
UID:20260423T025653UTC-9713WGsLVP@https://www.mapm.org/
DTSTAMP:20260423T025653Z
DESCRIPTION:Four Indigenous environmental leaders embark on an extraordinar
 y trans-continental adventure from the Boreal forest to deep into the hear
 t of the Amazonian jungle to unite the peoples of North and South America 
 and deepen the meaning of “Climate Justice.” “The Condor &amp\; The Eagle”
  offers a glimpse into a developing spiritual renaissance as the four prot
 agonists learn from each other’s long legacy of resistance to colonialism 
 and its extractive economy. Their path through the jungle takes them on an
  unexpectedly challenging and liberating journey\, which will forever chan
 ge their attachment to the Earth and one another.\nThis is a drop-in event
  hosted and facilitated by members of the Environmental Justice Team. http
 s://www.mapm.org/events/calendar/event/276-film-screening-discussion-the-c
 ondor-the-eagle
DTSTART:20200301T130000Z
DTEND:20200301T143000Z
LOCATION:First Universalist Church of Minneapolis (3400 Dupont Ave S\, Minn
 eapolis\, MN 55408\, USA)
SUMMARY:Film Screening & Discussion: “The Condor & The Eagle”
URL:https://www.mapm.org/events/calendar/event/276-film-screening-discussio
 n-the-condor-the-eagle
END:VEVENT
END:VCALENDAR
