BEGIN:VCALENDAR
VERSION:2.0
PRODID:-//https://www.mapm.org///NONSGML kigkonsult.se iCalcreator 2.10.15//
METHOD:PUBLISH
BEGIN:VEVENT
UID:20260423T025648UTC-94442jKFSP@https://www.mapm.org/
DTSTAMP:20260423T025648Z
DESCRIPTION:9:30-10:20 | Lower Assembly Hall\nProfessor Bill Doherty speaki
 ng\n\nWe may live in the most divisive time since the 1850s. In this prese
 ntation you will see how people with very different political viewpoints c
 an come to understand one another beyond stereotypes and find common groun
 d. You will learn about a couple of specific skills for talking with loved
  ones on the other political side. And you will have a chance to link up w
 ith the Better Angels local and national effort to show how we can have sh
 arp political differences without denigrating and demonizing one another.
 \n\nBill Doherty is Professor in the Department of Family Social Science a
 nd Director of the Citizen Professional Center at the University of Minnes
 ota. He has developed a model of grass roots organizing among parents and 
 other citizens around cultural\, community\, and health issues. Bill is al
 so a therapist working couples on the brink of divorce through the Minneso
 ta Couples on the Brink Project. Following the 2016 Presidential election\
 , he co-founded Better Angels\, a citizen initiative to help restore the f
 raying social fabric in American society. Better Angels workshops have spr
 ead to 45 states and have been featured in local and national media.\nwww.
 better-angels.org https://www.mapm.org/events/calendar/event/281-better-an
 gels-in-an-era-of-polarization
DTSTART:20200301T093000Z
DTEND:20200301T102000Z
LOCATION:First Unitarian Society of Minneapolis (900 Mt Curve Ave\, Minneap
 olis\, MN 55403\, USA)
SUMMARY: Better Angels in an Era of Polarization
URL:https://www.mapm.org/events/calendar/event/281-better-angels-in-an-era-
 of-polarization
END:VEVENT
END:VCALENDAR
