BEGIN:VCALENDAR
VERSION:2.0
PRODID:-//https://www.mapm.org///NONSGML kigkonsult.se iCalcreator 2.10.15//
METHOD:PUBLISH
BEGIN:VEVENT
UID:20260422T215924UTC-1233wtTpPo@https://www.mapm.org/
DTSTAMP:20260422T215924Z
DESCRIPTION:In 1999\, WAMM’s End War Committee partnered with other local a
 ctivist groups to initiate a weekly vigil on the Lake Street and Marshal A
 venue bridge in St.Paul. Originally in response to the U.S. and NATO bombi
 ngs in Yugoslavia\, the vigil has continued weekly with different U.S. san
 ctions\, interventions\, and wars to protest. Every Wednesday for over 20 
 years—rain\, shine or below zero temps—activists in the Twin Cities have g
 athered to stand in solidarity with all those affected by U.S. militarism 
 and to call for peace. https://www.mapm.org/events/calendar/event/319-vigi
 l-to-end-war-every-wed-at-the-lake-street-marshall-avenue-bridge
DTSTART:20200401T160000Z
DTEND:20200401T170000Z
LOCATION:Lake Street / Marshall Avenue Bridge (Lake Street-Marshall Bridge\
 , Minnesota\, USA)
SUMMARY:Vigil to End War\, every Wed. at the Lake Street / Marshall Avenue 
 Bridge
URL:https://www.mapm.org/events/calendar/event/319-vigil-to-end-war-every-w
 ed-at-the-lake-street-marshall-avenue-bridge
END:VEVENT
END:VCALENDAR
