BEGIN:VCALENDAR
VERSION:2.0
PRODID:-//https://www.mapm.org///NONSGML kigkonsult.se iCalcreator 2.10.15//
METHOD:PUBLISH
BEGIN:VEVENT
UID:20260423T041041UTC-4175AJEh7D@https://www.mapm.org/
DTSTAMP:20260423T041041Z
DESCRIPTION:UN2020 (http://un2020.org/) / UN75 (https://www.un.org/en/un75)
 &nbsp\;/ Together First (https://together1st.org/) Update.\nTo mark its 75
 th anniversary in 2020\, the United Nations has launched the “biggest-ever
  global conversation” on the role of global cooperation in building the fu
 ture we want. Learn about how you can engage in this campaign! This web-ba
 sed video conference (via Zoom) is open to anyone interested in finding ou
 t how to be involved in the effort to celebrate the 75th anniversary of th
 e United Nations with a serious look at “THE WORLD WE WANT” and “THE U.N. 
 WE NEED”. The session will include a brief introduction to the UN2020 and 
 UN75 campaigns\, the latest news\, ideas for engagement\, and group discus
 sion. For more information including Zoom dial-up information\, contact CG
 S UN2020 Team Lead\, Nancy Dunlavy\, nancy-cgs@dunlavy.net. https://www.ma
 pm.org/events/calendar/event/324-united-nations-75th-anniversary-2020-zoom
 -based-update-on-activities-toward-the-world-we-want-the-un-we-need
DTSTART:20200229T110000Z
DTEND:20200229T120000Z
LOCATION:Zoom-Based Virtual Meeting (445 Wacouta St\, St Paul\, MN 55101\, 
 USA)
SUMMARY:United Nations 75th Anniversary 2020: Zoom-based update on activiti
 es toward 'The World We Want\, the UN We Need'
URL:https://www.mapm.org/events/calendar/event/324-united-nations-75th-anni
 versary-2020-zoom-based-update-on-activities-toward-the-world-we-want-the-
 un-we-need
END:VEVENT
END:VCALENDAR
