BEGIN:VCALENDAR
VERSION:2.0
PRODID:-//https://www.mapm.org///NONSGML kigkonsult.se iCalcreator 2.10.15//
METHOD:PUBLISH
BEGIN:VEVENT
UID:20260422T231608UTC-00666RMdWO@https://www.mapm.org/
DTSTAMP:20260422T231608Z
DESCRIPTION:&nbsp\;\n\n\n\n\nIn March\, Minnesota Fringe presents personal 
 accounts of immigration\, finding\, and defining home from a few Fringe fa
 vorites and new friends!&nbsp\;Featuring the stories of Hannaa Al-Azzawi\,
  Nada Alabbasi\, and Bahaa Al Shaikhli. Directed and adapted by Dylan Fres
 co from the play Birds Sing Differently Here.\nDates:&nbsp\;March 27 - 29\
 , 2020Times:&nbsp\;Friday &amp\; Saturday 7pm / Saturday &amp\; Sunday 2pm
 Place:&nbsp\;The Crane Theater\, 2303 Kennedy St NE #120\, Minneapolis\, M
 N 55413&nbsp\;Tickets:&nbsp\;$30 in advance / $35 at the door / Free with 
 select&nbsp\;Fringe with Benefits&nbsp\;memberships\n\n\n\n https://www.ma
 pm.org/events/calendar/event/329-iraqi-voices-stories-from-our-neighbors-a
 t-the-minnesota-fringe-sat-3-28-2pm-7pm
DTSTART:20200328T190000Z
DTEND:20200328T210000Z
LOCATION:The Crane Theater (2303 Kennedy St NE #120\, Minneapolis\, MN 5541
 3\, USA)
SUMMARY:Iraqi Voices: Stories from our neighbors at the Minnesota Fringe (S
 at 3/28 2pm & 7pm)
URL:https://www.mapm.org/events/calendar/event/329-iraqi-voices-stories-fro
 m-our-neighbors-at-the-minnesota-fringe-sat-3-28-2pm-7pm
END:VEVENT
END:VCALENDAR
