BEGIN:VCALENDAR
VERSION:2.0
PRODID:-//https://www.mapm.org///NONSGML kigkonsult.se iCalcreator 2.10.15//
METHOD:PUBLISH
BEGIN:VEVENT
UID:20260422T161830UTC-5601ZcGOCe@https://www.mapm.org/
DTSTAMP:20260422T161830Z
DESCRIPTION:Doors open at 6:00pm. Concert begins 6:30pm. Love donations acc
 epted! https://www.mapm.org/events/calendar/event/332-spring-peace-concert
 -fundraiser-for-world-citizen
DTSTART:20200502T183000Z
DTEND:20200502T203000Z
LOCATION:Unitarian Universalist Fellowship of Northfield (5785 Lonsdale Blv
 d E\, Northfield\, MN 55057\, USA)
SUMMARY:Spring Peace Concert / Fundraiser for World Citizen
URL:https://www.mapm.org/events/calendar/event/332-spring-peace-concert-fun
 draiser-for-world-citizen
END:VEVENT
END:VCALENDAR
