BEGIN:VCALENDAR
VERSION:2.0
PRODID:-//https://www.mapm.org///NONSGML kigkonsult.se iCalcreator 2.10.15//
METHOD:PUBLISH
BEGIN:VEVENT
UID:20260423T025821UTC-4729zVrU9O@https://www.mapm.org/
DTSTAMP:20260423T025821Z
DESCRIPTION:We invite you to an intimate evening of Arabic and English poet
 ry on March 5th to commemorate the 13th anniversary of the bombing of Al-M
 utanabbi Street in Baghdad. Each year on March 5th readings are held aroun
 d the world as both a moment of solidarity with Iraqi people and their art
 ists and writers\, reminding us of what they face. But the readings also c
 elebrate the values that Al-Mutanabbi Street holds: free speech\, the free
  exchange of ideas\, and the equality that poetry\, writing\, and art inhe
 rently promise.\nDaybreak Press Global Bookshop & Gathering Space (720 Was
 hington Ave SE\, Minneapolis\, MN 55414)\nMarch 5\, 2020\, 7pm-8:30pm\nRea
 ders to be announced soon. This program is free and open to the public.\n
 \nالرئة الثالثة لبغداد\nينظم مشروع المصالحة العراقية الأمريكية (IARP) أمسي
 ة شعرية في الخامس من شهر مارس/آذار لأحياء الذكرى الثالثة عشرة لتفجير شارع 
 المتنبي في بغداد . تُعقد هذه الاستقراءات في يوم الخامس من مارس من كل عام ف
 ي جميع أنحاء العالم باعتبارها لحظة تضامن مع الشعب العراقي وفنانيه وكتابه ،
  لتذكيرنا بما يواجهونه . لكن القراءات تحتفل أيضًا بالقيم التي يحملها شارع 
 المتنبي: حرية التعبير ، التبادل الحر للأفكار ، والمساواة التي يجسدها الشعر
  والكتابة والفن بطبيعته .\nمكتبة دايبريك بريس العالمية وجمع الفضاءات (720 
 جادة واشنطن الجنوبي الشرقي ، مينيابولس ، مينيسوتا 55414)\n5 مارس 2020 ، 7 
 مساءً - 8:30 مساءً https://www.mapm.org/events/calendar/event/341-the-thir
 d-lung-of-baghdad-an-evening-of-poetry
DTSTART:20200305T190000Z
DTEND:20200305T203000Z
LOCATION:Daybreak Press Global Bookshop & Gathering Space (720 Washington A
 ve SE\, Minneapolis\, MN 55414)
SUMMARY:The Third Lung of Baghdad: An Evening of Poetry
URL:https://www.mapm.org/events/calendar/event/341-the-third-lung-of-baghda
 d-an-evening-of-poetry
END:VEVENT
END:VCALENDAR
