BEGIN:VCALENDAR
VERSION:2.0
PRODID:-//https://www.mapm.org///NONSGML kigkonsult.se iCalcreator 2.10.15//
METHOD:PUBLISH
BEGIN:VEVENT
UID:20260423T040820UTC-7519O3ehng@https://www.mapm.org/
DTSTAMP:20260423T040820Z
DESCRIPTION:WAMM’s Middle East Committee holds a weekly vigil each Friday f
 or Palestine in St.Paul at the corner of Summit and Snelling. This vigil i
 s held to bring awareness to the continued occupation of Palestine and vio
 lent denial of basic human rights to Palestinians living in occupied terri
 tory and throughout the world. Activists gather to peacefully voice protes
 t to the U.S. military and economic support of Israel’s illegal occupation
  of stolen land. https://www.mapm.org/events/calendar/event/344-vigil-for-
 palestine
DTSTART:20200227T163000Z
DTEND:20200227T173000Z
LOCATION:Summit and Snelling in St. Paul (Summit Ave & Snelling Ave\, St Pa
 ul\, MN 55105\, USA)
SUMMARY:Vigil for Palestine
URL:https://www.mapm.org/events/calendar/event/344-vigil-for-palestine
END:VEVENT
END:VCALENDAR
