BEGIN:VCALENDAR
VERSION:2.0
PRODID:-//https://www.mapm.org///NONSGML kigkonsult.se iCalcreator 2.10.15//
METHOD:PUBLISH
BEGIN:VEVENT
UID:20260423T040652UTC-5078GjOASa@https://www.mapm.org/
DTSTAMP:20260423T040652Z
DESCRIPTION:WAMM gathers at the I.C.E. driveway entrance where we stand in 
 solidarity with refugees and immigrants who are facing persecution and det
 ention throughout the United States each Tuesday morning from 7:30 to 8:30
  a.m except for the Second Tuesday. Inside is where immigrants’ lives are 
 determined in court. Come to the Fort Snelling light rail station and you’
 ll be able to see where we are.&nbsp\;Commuters and drivers who pass by ar
 e across a wide street\, so make a sign with few words and BIG LETTERS\nOn
  the Second Tuesdays of the month\, the vigil is at a nearby location in f
 ront of the Bishop Whipple Building. This event is sponsored by the organi
 zation ICOM (Interfaith Coalition on Immigration). These two groups are NO
 T connected except some of the people attend both vigils.&nbsp\; https://w
 ww.mapm.org/events/calendar/event/345-weekly-ice-vigil
DTSTART:20200225T073000Z
DTEND:20200225T083000Z
LOCATION:Bishop Henry Whipple Building (1 Federal Drive\, St. Paul\, MN  55
 111)
SUMMARY:Weekly ICE Vigil
URL:https://www.mapm.org/events/calendar/event/345-weekly-ice-vigil
END:VEVENT
END:VCALENDAR
