BEGIN:VCALENDAR
VERSION:2.0
PRODID:-//https://www.mapm.org///NONSGML kigkonsult.se iCalcreator 2.10.15//
METHOD:PUBLISH
BEGIN:VEVENT
UID:20260423T014101UTC-6541I3v4nu@https://www.mapm.org/
DTSTAMP:20260423T014101Z
DESCRIPTION:The Solidarity Committee on the Americas Committee of Women Aga
 inst Military Madness invites you to attend our March Coffee Hour on Satur
 day\, March 14\, 2020 from 9:30 am until 11:30 am at 4200 Cedar Avenue S i
 n Minneapolis.\n\nSpeakers include:\n\nLaura Flynn: was assistant to Haiti
 an President Jean-Bertrand Aristide from 1994–1999\; Director of Internati
 onal Relations for the Aristide Foundation for Democracy in Haiti\; and ed
 itor of “Eyes of the Heart: Seeking a Path for the Poor in the Age of Glob
 alization” by Jean-Bertrand Aristide\n\nPierre LaBossiere\, Haiti Action C
 ommittee (via Skype). The Haiti Action Committee is a Bay-Area based netwo
 rk of activists who have supported the Haitian struggle for democracy sinc
 e 1991. They published a report on the LaSaline massacre. Pierre LaBossier
 e is Haitian\, an activist\, and a co-founder of Haiti Action Committee. H
 e speaks about the present situation in Haiti.\n\nRuben Joanem is a Haitia
 n immigrant to Minnesota and is an advocate for the Haitian people. He mak
 es frequent trips to Haiti to bring humanitarian aid and medical supplies.
  He is an active member of the Haiti Justice Committee of Minnesota.\n\nTh
 e coffee hour is co-sponsored by the Haiti Justice Committee of Minnesota.
  The event will be moderated by April Knutson who is active with the Haiti
  Justice Committee. https://www.mapm.org/events/calendar/event/348-postpon
 ed
DTSTART:20200314T093000Z
DTEND:20200314T113000Z
LOCATION:4200 Cedar Ave So in Minneapolis (4200 Cedar Ave S\, Minneapolis\,
  MN 55407\, USA)
SUMMARY:POSTPONED
URL:https://www.mapm.org/events/calendar/event/348-postponed
END:VEVENT
END:VCALENDAR
