BEGIN:VCALENDAR
VERSION:2.0
PRODID:-//https://www.mapm.org///NONSGML kigkonsult.se iCalcreator 2.10.15//
METHOD:PUBLISH
BEGIN:VEVENT
UID:20260422T231154UTC-17522AGtV1@https://www.mapm.org/
DTSTAMP:20260422T231154Z
DESCRIPTION:Please join us for the WAMM Annual Meeting!\nSaturday\, March 2
 8\, 2020\n10 am Brunch\, 10:25 Presentation\nSpirit of St. Stephen’s Catho
 lic Community\n2201 First Avenue South in Minneapolis\n\nNellie Jo David: 
  When Borders Cross O’odham: Indigenous Resistance to Occupation from Turt
 le Island to Palestine\n\nNellie Jo David has a law degree and is an organ
 izer focusing on indigenous human rights and autonomy on the imposed U.S./
 Mexico borderlands intersecting her own Tohono O’odham Nation. Nellie has 
 witnessed the increased militarization of her border community\, Ajo\, Ari
 zona\, and dedicates her work to migrant justice & protection of indigenou
 s peoples’ rights\, the land and wildlife. Her 2017 experience in Occupied
  Palestine echoed the cruel nature of walls and checkpoints to oppress and
  destroy human lives. \n\nChildcare provided\, please call ahead. \n\nALL 
 ARE WELCOME! \n10:00 Brunch and Live Music\n10:25 Welcome and Presentation
  \n12:00 Business Meeting and Annual Report Sing-Along \n12:30 Adjourn \n
 \n612-827-5364\nwamm@mtn.org \nwomenagainstmilitarymadness.org https://www
 .mapm.org/events/calendar/event/350-postponed
DTSTART:20200328T100000Z
DTEND:20200328T123000Z
LOCATION:Spirit of St Stephens Catholic Community (2201 1st Ave S\, Minneap
 olis\, MN 55404\, USA)
SUMMARY:POSTPONED
URL:https://www.mapm.org/events/calendar/event/350-postponed
END:VEVENT
END:VCALENDAR
