BEGIN:VCALENDAR
VERSION:2.0
PRODID:-//https://www.mapm.org///NONSGML kigkonsult.se iCalcreator 2.10.15//
METHOD:PUBLISH
BEGIN:VEVENT
UID:20260422T161926UTC-2963dTzvj8@https://www.mapm.org/
DTSTAMP:20260422T161926Z
DESCRIPTION:Put your cribbage-playing chops to the test to support bullying
  prevention and safer schools. Enjoy good-spirited competition\, camarader
 ie\, and pizza! All are welcome\, including advanced and beginner players.
 \n&nbsp\;\nCost:\n\n$40 per person to play in the tournament. ($30.00 is t
 ax deductible)\nFood and beverages included.\n\n&nbsp\;\nTo Register and R
 eserve Your Spot in the Tournament:\n\nGet tickets on Eventbrite\, or:\nEm
 ail to confirm your spot in the tournament and\, mail a $40 check to:Peace
 Maker Minnesota\, 2131 Fairview Avenue\, Suite E\, Roseville MN 55113\n\n&
 nbsp\;\nTournament Schedule:\n5:30 p.m. – 6:00 p.m. Registration Opens. So
 cial and team tournament seeding.6:00 p.m. – 9:00 p.m. Team tournament pla
 y9:00 p.m. Award ceremony\n&nbsp\;\nTournament Details / Rules:\n\nMust be
  21-years-old or older to participate.\nHalf of the teams will rotate afte
 r each game to assure different tams play each other every time.\nGames pl
 ayed up to 1000.\n\n&nbsp\;\nThank You to Our Tournament Sponsors:&nbsp\;
 \n&nbsp\;Presenting Sponsor: New Brighton Lions Club\nSupporting Sponsors:
 &nbsp\;Amy Wakem State Farm Insurance\,&nbsp\;Kevin O'Brien\, Realtor\;&nb
 sp\;New Brighton - Mounds View Rotary Club\,&nbsp\;New Brighton Eagles Clu
 b https://www.mapm.org/events/calendar/event/354-postponed-annual-cribbage
 -tournament-for-peaceful-schools
DTSTART:20200426T173000Z
DTEND:20200426T213000Z
LOCATION:Adagio's Pizza Factory (2052 Silver Lake Rd NW\, New Brighton\, MN
  55112)
SUMMARY:Postponed: Annual Cribbage Tournament for Peaceful Schools
URL:https://www.mapm.org/events/calendar/event/354-postponed-annual-cribbag
 e-tournament-for-peaceful-schools
END:VEVENT
END:VCALENDAR
