BEGIN:VCALENDAR
VERSION:2.0
PRODID:-//https://www.mapm.org///NONSGML kigkonsult.se iCalcreator 2.10.15//
METHOD:PUBLISH
BEGIN:VEVENT
UID:20260422T215718UTC-8690S5e31U@https://www.mapm.org/
DTSTAMP:20260422T215718Z
DESCRIPTION:A big thank you to so many of you who joined our online café la
 st Thursday! Over 80 people came together to discuss a reawakening to nonv
 iolence during this time. Participants described the discussion as 'inspir
 ing\, hopeful\, powerful\, uniting\, cathartic and emotive.' If you wanted
  to join but weren't able to\, please click here to watch the recording.\n
 \nAnd\, please join us this Thursday\, April 2nd at 8 AM PT/ 10 AM CT/ 11 
 AM ET/ 3 PM UTC for Online Nonviolence Café #2. Just copy this link https:
 //zoom.us/j/438562996 and you'll be connected to dozens of other supporter
 s of Nonviolent Peaceforce!\n\nNonviolent Peaceforce teams work with peopl
 e impacted by violent conflict who are now facing the threats of Covid19. 
 You will hear directly from Executive Director Tiffany Easthom and program
  leaders in South Sudan and Myanmar about responding to new needs and how 
 Covid19 increases the need for civilian protection. Please join to hear ho
 w your support is making a difference during Covid19.\n\nWe look forward t
 o seeing you there and hearing your thoughts and questions. If you have an
 y issues accessing the call please contact Amy Hansen at 651-334-8051 or a
 hansen@nonviolentpeaceforce.org. To join via telephone instead please dial
  1-929-205-6099 and enter Meeting ID: 438 562 996\, then press # twice. ht
 tps://www.mapm.org/events/calendar/event/355-online-nonviolence-cafe-2
DTSTART:20200402T100000Z
DTEND:20200402T110000Z
LOCATION:Zoom-Based Virtual Meeting (445 Wacouta St\, St Paul\, MN 55101\, 
 USA)
SUMMARY:Online Nonviolence Cafe #2
URL:https://www.mapm.org/events/calendar/event/355-online-nonviolence-cafe-
 2
END:VEVENT
END:VCALENDAR
