BEGIN:VCALENDAR
VERSION:2.0
PRODID:-//https://www.mapm.org///NONSGML kigkonsult.se iCalcreator 2.10.15//
METHOD:PUBLISH
BEGIN:VEVENT
UID:20260424T143715UTC-59280PHGXN@https://www.mapm.org/
DTSTAMP:20260424T143715Z
DESCRIPTION: https://www.mapm.org/events/calendar/event/442-delegate-counci
 l-meeting
DTSTART:20240514T110000Z
DTEND:20240514T130000Z
LOCATION:Zoom-Based Virtual Meeting (445 Wacouta St\, St Paul\, MN 55101\, 
 USA)
SUMMARY:Delegate Council Meeting
URL:https://www.mapm.org/events/calendar/event/442-delegate-council-meeting
END:VEVENT
END:VCALENDAR
