BEGIN:VCALENDAR
VERSION:2.0
PRODID:-//https://www.mapm.org///NONSGML kigkonsult.se iCalcreator 2.10.15//
METHOD:PUBLISH
BEGIN:VEVENT
UID:20260421T084930UTC-3693SuRVeK@https://www.mapm.org/
DTSTAMP:20260421T084930Z
DESCRIPTION:It is Celebration Time! Senator John Marty Will Be Speaking.  T
 he 3\,000 mile walk across the country was a huge step towards national re
 cognition of Move to Amend.\n\nThroughout the 15 years following the Walk\
 , Move to Amend volunteers across the country have made “Move to Amend’ a 
 recognizable name\; along with “We the People Amendment\,” “End Corporate 
 Personhood” and “ Money is Not Speech.”  There are over 525\,000 petition 
 signers\; more than 16\,000 in Minnesota alone. https://www.mapm.org/event
 s/calendar/event/470-15th-anniversary-of-the-monahan-walk-across-the-us-ev
 ent
DTSTART:20251102T140000Z
DTEND:20251102T160000Z
LOCATION:East Side Freedom Library\, (1105 Greenbrier St\, Saint Paul\, Min
 nesota 55106)
SUMMARY:15th Anniversary of the Monahan Walk Across the US event
URL:https://www.mapm.org/events/calendar/event/470-15th-anniversary-of-the-
 monahan-walk-across-the-us-event
END:VEVENT
END:VCALENDAR
