BEGIN:VCALENDAR
VERSION:2.0
PRODID:-//https://www.mapm.org///NONSGML kigkonsult.se iCalcreator 2.10.15//
METHOD:PUBLISH
BEGIN:VEVENT
UID:20260424T054900UTC-9907sad3sB@https://www.mapm.org/
DTSTAMP:20260424T054900Z
DESCRIPTION:When: Fourth Monday of each month\, January through October\, 6
 :30 – 8:30 p.m.Facilitator: Philip Lund loftpeacewriters@gmail.com\nThis g
 roup is comprised of writers who consciously explore the nature of peace\,
  and through our activities aim to renew and maintain a sense of hope for 
 the future. By sharing our writing and discussing the works of writers who
  inspire and move us toward action\, we endeavor to refine our talents and
  use our creative craft to promote peace and sustainable justice in our wo
 rld. The group is open to all experience levels and writing genres. https:
 //www.mapm.org/events/calendar/event/59-peace-and-social-justice-writers-g
 roup
DTSTART:20190826T183000Z
DTEND:20190826T203000Z
LOCATION:The Loft Literary Center (1011 Washington Avenue South\, Open Book
 \, Suite 200\, Minneapolis\, MN 55415\, United States)
SUMMARY:Peace and Social Justice Writers’ Group
URL:https://www.mapm.org/events/calendar/event/59-peace-and-social-justice-
 writers-group
END:VEVENT
END:VCALENDAR
