BEGIN:VCALENDAR
VERSION:2.0
PRODID:-//https://www.mapm.org///NONSGML kigkonsult.se iCalcreator 2.10.15//
METHOD:PUBLISH
BEGIN:VEVENT
UID:20260424T053942UTC-1346MpkTx1@https://www.mapm.org/
DTSTAMP:20260424T053942Z
DESCRIPTION:The seventeen interconnected Sustainable Development Goals prov
 ide the blueprint to achieve a better and more sustainable future for all.
  They address the global challenges we face\, including those related to p
 overty\, inequality\, climate\, environmental degradation\, prosperity\, a
 nd peace and justice. In order to leave no one behind\, it is important th
 at we achieve each Goal and target by 2030.\n\nReaching each of these goal
 s on a global scale will require effective cooperation across borders\, se
 ctors and generations. Failure to do so will have far-reaching consequence
 s for the welfare of our children and grandchildren -- and our planet itse
 lf.\n\nTo mark the 75th anniversary of the United Nations in 2020\, under 
 the leadership of Secretary-General António Guterres\, the UN plans to lau
 nch a series of dialogues involving people from all regions and walks of l
 ife to discuss how we can collectively navigate the gap between the world 
 we want and where we are headed\, if current negative trends continue.\n\n
 This Minnesota event\, held in honor of UN Day (Oct 24)\, will kick off a 
 year of Minnesota-based activities\, engaging 'we the peoples' in creating
  'The future we want\, the UN we need.' https://www.mapm.org/events/calend
 ar/event/85-un-day-event-the-world-we-want-the-united-nations-we-need
DTSTART:20191023T170000Z
DTEND:20191023T200000Z
LOCATION:James J. Hill House (240 Summit Ave\, St Paul\, MN 55102\, USA)
SUMMARY:UN Day Event: 'The World We Want\, the United Nations We Need'
URL:https://www.mapm.org/events/calendar/event/85-un-day-event-the-world-we
 -want-the-united-nations-we-need
END:VEVENT
END:VCALENDAR
