BEGIN:VCALENDAR
VERSION:2.0
PRODID:-//https://www.mapm.org///NONSGML kigkonsult.se iCalcreator 2.10.15//
METHOD:PUBLISH
BEGIN:VEVENT
UID:20260424T121137UTC-04767PSFAg@https://www.mapm.org/
DTSTAMP:20260424T121137Z
DESCRIPTION:Auction includes a dinner buffet\, adult beverages and music! B
 id on an exciting variety of items such as local restaurant gift certifica
 tes\, gourmet dinners\, health and wellness services\, vacation getaways\,
  books and more. FREE PARKING! Childcare available.\nSuggested entry donat
 ion:&nbsp\;$10–$30.&nbsp\;None will be turned away for lack of funds. Bidd
 ing closes at 7:00pm.\nContact WAMM to&nbsp\;reserve a table for 4–8 peopl
 e at $25 per person. https://www.mapm.org/events/calendar/event/97-wamm-35
 th-annual-silent-auction-eat-bid-drink-enjoy
DTSTART:20190915T170000Z
DTEND:20190915T200000Z
LOCATION:St. Joan of Arc Church (4537 3rd Ave S\, Minneapolis\, MN 55419\, 
 USA)
SUMMARY:WAMM 35th Annual Silent Auction: Eat\, Bid\, Drink\, Enjoy!
URL:https://www.mapm.org/events/calendar/event/97-wamm-35th-annual-silent-a
 uction-eat-bid-drink-enjoy
END:VEVENT
END:VCALENDAR
