BEGIN:VCALENDAR
VERSION:2.0
PRODID:-//https://www.mapm.org///NONSGML kigkonsult.se iCalcreator 2.10.15//
METHOD:PUBLISH
BEGIN:VEVENT
UID:20260422T143849UTC-0564fDo6rd@https://www.mapm.org/
DTSTAMP:20260422T143849Z
DESCRIPTION: https://www.mapm.org/events/calendar/event/461-monthly-delegat
 e-council-meeting
DTSTART:20250114T110000Z
DTEND:20250114T130000Z
LOCATION:Being held via Zoom - contact any MAP Leadership Team member for i
 nformation ()
SUMMARY:Monthly Delegate Council Meeting
URL:https://www.mapm.org/events/calendar/event/461-monthly-delegate-council
 -meeting
END:VEVENT
BEGIN:VEVENT
UID:20260422T143849UTC-0565LUVCuh@https://www.mapm.org/
DTSTAMP:20260422T143849Z
DESCRIPTION:President-elect Trump has appointed Elon Musk to lead his new “
 Department of Government Efficiency” (DOGE).  Musk promises to slash $2 tr
 illion from the federal budget\, nearly one third of the total budget. Jac
 k Nelson-Pallmeyer will present basic background and explain where cuts ar
 e likely to be made and who will likely be most impacted.  How will you be
  affected?  Massive budget cuts are supposed to lead to lower deficits…but
  the Trump Administration promises to increase military spending and to re
 new tax breaks that look to favor wealthy Americans and corporations.  Reg
 ister here:  https://bit.ly/4iO2VZn\n https://www.mapm.org/events/calendar
 /event/462-let-s-talk-how-will-elon-musk-s-proposed-2-trillion-in-budget-c
 uts-affect-us
DTSTART:20250116T190000Z
DTEND:20250116T200000Z
LOCATION:Zoom Video Conference ()
SUMMARY:LET'S TALK!  How will Elon Musk's proposed $2 trillion in budget cu
 ts affect us?
URL:https://www.mapm.org/events/calendar/event/462-let-s-talk-how-will-elon
 -musk-s-proposed-2-trillion-in-budget-cuts-affect-us
END:VEVENT
END:VCALENDAR
