BEGIN:VCALENDAR
VERSION:2.0
PRODID:-//https://www.mapm.org///NONSGML kigkonsult.se iCalcreator 2.10.15//
METHOD:PUBLISH
BEGIN:VEVENT
UID:20260423T002841UTC-1565uougGt@https://www.mapm.org/
DTSTAMP:20260423T002841Z
DESCRIPTION: https://www.mapm.org/events/calendar/event/171-map-delegate-co
 uncil-meetings-held-every-month-on-the-2nd-tuesday
DTSTART:20200310T110000Z
DTEND:20200310T130000Z
LOCATION:Walker Community United Methodist Church\,  (3104 16th Ave S\, Min
 neapolis\, MN 55407\, USA)
SUMMARY:MAP Delegate Council Meetings\, held every month on the 2nd Tuesday
URL:https://www.mapm.org/events/calendar/event/171-map-delegate-council-mee
 tings-held-every-month-on-the-2nd-tuesday
END:VEVENT
BEGIN:VEVENT
UID:20260423T002841UTC-1566zXgGPD@https://www.mapm.org/
DTSTAMP:20260423T002841Z
DESCRIPTION:Join members of the Interfaith Coalition on Immigration (ICOM) 
 on the second Tuesday of every month. Raise your voice in prayer and prote
 st about the separation of families that happens in the Twin Cities daily.
 The vigil starts at 7:30 a.m. in the courtyard. Stay afterwards for Court 
 Watch that begins at 9:00 a.m. https://www.mapm.org/events/calendar/event/
 245-interfaith-coalition-on-immigration-icom-vigil
DTSTART:20200310T073000Z
DTEND:20200310T090000Z
LOCATION:Bishop Henry Whipple Building (1 Federal Drive\, St. Paul\, MN  55
 111)
SUMMARY:Interfaith Coalition on Immigration (ICOM) Vigil
URL:https://www.mapm.org/events/calendar/event/245-interfaith-coalition-on-
 immigration-icom-vigil
END:VEVENT
BEGIN:VEVENT
UID:20260423T002841UTC-1566Ff4Dnc@https://www.mapm.org/
DTSTAMP:20260423T002841Z
DESCRIPTION:REGISTER HERE.\nBetter Angels&nbsp\;is a national nonprofit tha
 t has developed and pioneered concrete\, structured practices for dialogue
  across political divides. Its leadership is half “red” and half “blue.” T
 he First Universalist Peace Circle is hosting two Better Angels workshops 
 at church this winter/spring. The Conversation Skills workshop is a prereq
 uisite for the Red/Blue workshop offered in April (having attended another
  Better Angels skills workshop previously is also acceptable).\nThis works
 hop is offered twice: choose either February 22 or March 14\nIn our curren
 t polarized political environment\, many people avoid or even dread politi
 cal conversations with friends or family members whose politics differ fro
 m their own. They worry\, rightly so\, that any attempts at political disc
 ussions will devolve into arguments and acrimony\, and result in hurt feel
 ings or anger. In this interactive Better Angels workshop you will learn s
 kills for having respectful conversations that clarify differences\, searc
 h for common ground\, and affirm the importance of the relationship. Anyon
 e interested in having better conversations with people on the other side 
 of the political aisle will benefit from this workshop.\nGoals\n\nTo learn
  about the perspectives\, feelings\, and experiences of someone who differ
 s from you politically\nTo have a sense of satisfaction about how you conv
 eyed your own perspective\, feelings\, and experiences\nTo discover some c
 ommon ground\, if it’s there\n\nAfter a brief introduction and a discussio
 n about what can go wrong in political discussions\, participants in a ski
 lls workshop can expect to learn the following:\n\nTone setting skills\nLi
 stening skills\nSpeaking skills\nHandling difficult moments\n\nYou will pr
 actice conversation skills in a pair with someone of your same political p
 ersuasion—red or blue. “Reds” lean conservative/libertarian and tend to vo
 te Republican. “Blues” lean liberal/progressive and tend to vote Democrati
 c. If you fall somewhere in the middle\, you can choose a side for purpose
 s of practicing the skills. https://www.mapm.org/events/calendar/event/278
 -bridging-the-political-divide-conversation-skills-a-better-angels-skills-
 workshop
DTSTART:20200314T090000Z
DTEND:20200314T120000Z
LOCATION:First Universalist Church of Minneapolis (3400 Dupont Ave S\, Minn
 eapolis\, MN 55408\, USA)
SUMMARY:“Bridging the Political Divide: Conversation Skills” A Better Angel
 s Skills Workshop
URL:https://www.mapm.org/events/calendar/event/278-bridging-the-political-d
 ivide-conversation-skills-a-better-angels-skills-workshop
END:VEVENT
BEGIN:VEVENT
UID:20260423T002841UTC-1568En8WVK@https://www.mapm.org/
DTSTAMP:20260423T002841Z
DESCRIPTION:In 1999\, WAMM’s End War Committee partnered with other local a
 ctivist groups to initiate a weekly vigil on the Lake Street and Marshal A
 venue bridge in St.Paul. Originally in response to the U.S. and NATO bombi
 ngs in Yugoslavia\, the vigil has continued weekly with different U.S. san
 ctions\, interventions\, and wars to protest. Every Wednesday for over 20 
 years—rain\, shine or below zero temps—activists in the Twin Cities have g
 athered to stand in solidarity with all those affected by U.S. militarism 
 and to call for peace. https://www.mapm.org/events/calendar/event/300-vigi
 l-to-end-war-every-wed-at-the-lake-street-marshall-avenue-bridge
DTSTART:20200311T160000Z
DTEND:20200311T170000Z
LOCATION:Lake Street / Marshall Avenue Bridge (Lake Street-Marshall Bridge\
 , Minnesota\, USA)
SUMMARY:Vigil to End War\, every Wed. at the Lake Street / Marshall Avenue 
 Bridge
URL:https://www.mapm.org/events/calendar/event/300-vigil-to-end-war-every-w
 ed-at-the-lake-street-marshall-avenue-bridge
END:VEVENT
BEGIN:VEVENT
UID:20260423T002841UTC-1569ONckox@https://www.mapm.org/
DTSTAMP:20260423T002841Z
DESCRIPTION:Citizens for Global Solutions will host its second monthly UN20
 20 Zoom-based meeting. We plan to review and discuss the UN2020 Civil Soci
 ety Declaration zero draft and compile our input to its final wording. All
  are invited! For more information and to receive Zoom dial-up information
 \, please contact the CGS UN2020 Team lead Nancy Dunlavy\, nancy-cgs@dunla
 vy.net. https://www.mapm.org/events/calendar/event/325-un2020-un75-monthly
 -update-hosted-by-citizens-for-global-solutions
DTSTART:20200314T110000Z
DTEND:20200314T120000Z
LOCATION:Zoom-Based Virtual Meeting (445 Wacouta St\, St Paul\, MN 55101\, 
 USA)
SUMMARY:UN2020 / UN75 Monthly Update\, hosted by Citizens for Global Soluti
 ons
URL:https://www.mapm.org/events/calendar/event/325-un2020-un75-monthly-upda
 te-hosted-by-citizens-for-global-solutions
END:VEVENT
BEGIN:VEVENT
UID:20260423T002841UTC-1570IDsUXw@https://www.mapm.org/
DTSTAMP:20260423T002841Z
DESCRIPTION:Monday\, March 9\, 7:00 pm\n4200 Cedar Avenue South in Minneapo
 lis\n\nShe risked everything to stop and unjust war. Her government called
  her a traitor. Based on world-shaking true events\, Official Secrets tell
 s the gripping story of Katharine Gun (Keira Knightley)\, a British intell
 igence specialist whose job involves routine handling  of classified infor
 mation. One day in 2003\, in the lead up  to the Iraq War\, Gun receives a
  memo from the NSA with  a shocking directive: The United States is enlist
 ing Britain’s help in collecting compromising information on United Nation
 s Security Council members in order to blackmail them into voting in favor
  of an invasion of Iraq. Unable to stand by and watch the world be rushed 
 into an illegal war\, Gun makes the gut-wrenching decision to defy her gov
 ernment and leak the memo to the press. So begins an explosive chain of ev
 ents that will ignite an international firestorm\, expose a vast political
  conspiracy\, and put Gun and her family directly in harm’s way.\n\nIFC Fi
 lms | UK & US | 2019 | 111 mins.\n\nFormer FBI agent and whistleblower Col
 een Rowley will lead the after-film discussion.\n\nSource:: https://www.fa
 cebook.com/events/2660702030717826/ https://www.mapm.org/events/calendar/e
 vent/347-official-secrets-movie
DTSTART:20200309T190000Z
DTEND:20200309T210000Z
LOCATION:4200 Cedar Avenue (4200 Cedar Ave\, Minneapolis\, MN 55407\, USA)
SUMMARY:Official Secrets movie
URL:https://www.mapm.org/events/calendar/event/347-official-secrets-movie
END:VEVENT
BEGIN:VEVENT
UID:20260423T002841UTC-1572uDAkkP@https://www.mapm.org/
DTSTAMP:20260423T002841Z
DESCRIPTION:The Solidarity Committee on the Americas Committee of Women Aga
 inst Military Madness invites you to attend our March Coffee Hour on Satur
 day\, March 14\, 2020 from 9:30 am until 11:30 am at 4200 Cedar Avenue S i
 n Minneapolis.\n\nSpeakers include:\n\nLaura Flynn: was assistant to Haiti
 an President Jean-Bertrand Aristide from 1994–1999\; Director of Internati
 onal Relations for the Aristide Foundation for Democracy in Haiti\; and ed
 itor of “Eyes of the Heart: Seeking a Path for the Poor in the Age of Glob
 alization” by Jean-Bertrand Aristide\n\nPierre LaBossiere\, Haiti Action C
 ommittee (via Skype). The Haiti Action Committee is a Bay-Area based netwo
 rk of activists who have supported the Haitian struggle for democracy sinc
 e 1991. They published a report on the LaSaline massacre. Pierre LaBossier
 e is Haitian\, an activist\, and a co-founder of Haiti Action Committee. H
 e speaks about the present situation in Haiti.\n\nRuben Joanem is a Haitia
 n immigrant to Minnesota and is an advocate for the Haitian people. He mak
 es frequent trips to Haiti to bring humanitarian aid and medical supplies.
  He is an active member of the Haiti Justice Committee of Minnesota.\n\nTh
 e coffee hour is co-sponsored by the Haiti Justice Committee of Minnesota.
  The event will be moderated by April Knutson who is active with the Haiti
  Justice Committee. https://www.mapm.org/events/calendar/event/348-postpon
 ed
DTSTART:20200314T093000Z
DTEND:20200314T113000Z
LOCATION:4200 Cedar Ave So in Minneapolis (4200 Cedar Ave S\, Minneapolis\,
  MN 55407\, USA)
SUMMARY:POSTPONED
URL:https://www.mapm.org/events/calendar/event/348-postponed
END:VEVENT
END:VCALENDAR
