BEGIN:VCALENDAR
VERSION:2.0
PRODID:-//https://www.mapm.org///NONSGML kigkonsult.se iCalcreator 2.10.15//
METHOD:PUBLISH
BEGIN:VEVENT
UID:20260422T231307UTC-59272s5Wnn@https://www.mapm.org/
DTSTAMP:20260422T231307Z
DESCRIPTION:UNA-MN Spring Conference Registration Form HERE.This form will 
 register your high school for the UNA-MN High School Model United Nations 
 Spring Conference hosted at the University of Minnesota on March 19th\, 20
 20 from 9 am-3 pm. The cost is $30 per delegate\, which includes lunch. In
 voices will follow after the final registration date on February 27th\, 20
 20. If you need to change any information on your registration\, please re
 ach out to us! Registration numbers are final after the 27th unless otherw
 ise communicated with the UNA-MN Conference Coordinators\, and schools wil
 l be billed accordingly.\nIf you have any questions about the registration
  process or the conference\, please feel free to reach out to modelun-mn@u
 namn.org. https://www.mapm.org/events/calendar/event/269-una-mn-high-schoo
 l-model-united-nations-spring-conference-university-of-minnesota-march-19t
 h-2020-from-9-am-3-pm
DTSTART:20200319T090000Z
DTEND:20200320T150000Z
LOCATION:University of Minnesota\, Coffman Memorial Union (300 Washington A
 ve SE\, Minneapolis\, MN 55455\, USA)
SUMMARY:UNA-MN High School Model United Nations Spring Conference\, Univers
 ity of Minnesota\, March 19th\, 2020 from 9 am-3 pm.
URL:https://www.mapm.org/events/calendar/event/269-una-mn-high-school-model
 -united-nations-spring-conference-university-of-minnesota-march-19th-2020-
 from-9-am-3-pm
END:VEVENT
BEGIN:VEVENT
UID:20260422T231307UTC-5928HCIvDl@https://www.mapm.org/
DTSTAMP:20260422T231307Z
DESCRIPTION:In 1999\, WAMM’s End War Committee partnered with other local a
 ctivist groups to initiate a weekly vigil on the Lake Street and Marshal A
 venue bridge in St.Paul. Originally in response to the U.S. and NATO bombi
 ngs in Yugoslavia\, the vigil has continued weekly with different U.S. san
 ctions\, interventions\, and wars to protest. Every Wednesday for over 20 
 years—rain\, shine or below zero temps—activists in the Twin Cities have g
 athered to stand in solidarity with all those affected by U.S. militarism 
 and to call for peace. https://www.mapm.org/events/calendar/event/307-vigi
 l-to-end-war-every-wed-at-the-lake-street-marshall-avenue-bridge
DTSTART:20200318T160000Z
DTEND:20200318T170000Z
LOCATION:Lake Street / Marshall Avenue Bridge (Lake Street-Marshall Bridge\
 , Minnesota\, USA)
SUMMARY:Vigil to End War\, every Wed. at the Lake Street / Marshall Avenue 
 Bridge
URL:https://www.mapm.org/events/calendar/event/307-vigil-to-end-war-every-w
 ed-at-the-lake-street-marshall-avenue-bridge
END:VEVENT
BEGIN:VEVENT
UID:20260422T231307UTC-5929oezVIS@https://www.mapm.org/
DTSTAMP:20260422T231307Z
DESCRIPTION:When: Monday\, March 16\, 2020 6:30 p.m. \n\nWhere:   St. Joan 
 of Arc Catholic Church\n\n                4537 3rd Ave.*\; Minneapolis  55
 409   (*access to parking lot)\n\n                612-823-8205       http:
 //www.stjoan.com\n\nWhy: Support\, networking\, delicious food\, and an ou
 tstanding program!\n\nIlhan Omar was elected to the Minnesota House of Rep
 resentatives in 2016.  In 2018\, she was elected to the U.S. House of Repr
 esentatives\, marking a number of historic electoral firsts: she is the fi
 rst Somali American\, the first naturalized citizen from Africa\, and the 
 first non-white woman elected from Minnesota. She is also one of the first
  two Muslim women (along with Rashida Tlaib of Michigan) to serve in Congr
 ess.\n\nOmar is a member of the Congressional Progressive Caucus and has a
 dvocated for a living wage\, affordable housing\, universal healthcare\, s
 tudent loan debt forgiveness\, the protection of Deferred Action for Child
 hood Arrivals\, and abolishing U.S. Immigration and Customs Enforcement (I
 CE).\n\nCo-sponsored by:  Twin Cities Peace Campaign\,   WAMM End War Comm
 ittee\,\n\nVeterans for Peace chap. 27\, and St. Joan of Arc/WAMM Peacemak
 ers.\n\n \n\n For more information visit the website >  https://groups.yah
 oo.com/neo/groups/MnECAPC/info\n\nSource:: https://groups.yahoo.com/neo/gr
 oups/MnECAPC/info https://www.mapm.org/events/calendar/event/346-postponed
DTSTART:20200316T183000Z
DTEND:20200316T213000Z
LOCATION:St. Joan of Arc Church (4537 3rd Ave S\, Minneapolis\, MN 55419\, 
 USA)
SUMMARY:POSTPONED
URL:https://www.mapm.org/events/calendar/event/346-postponed
END:VEVENT
END:VCALENDAR
