BEGIN:VCALENDAR
VERSION:2.0
PRODID:-//https://www.mapm.org///NONSGML kigkonsult.se iCalcreator 2.10.15//
METHOD:PUBLISH
BEGIN:VEVENT
UID:20260422T174312UTC-09725Lpedx@https://www.mapm.org/
DTSTAMP:20260422T174312Z
DESCRIPTION: https://www.mapm.org/events/calendar/event/172-map-delegate-co
 uncil-meetings-held-every-month-on-the-2nd-tuesday
DTSTART:20200414T110000Z
DTEND:20200414T130000Z
LOCATION:Walker Community United Methodist Church\,  (3104 16th Ave S\, Min
 neapolis\, MN 55407\, USA)
SUMMARY:MAP Delegate Council Meetings\, held every month on the 2nd Tuesday
URL:https://www.mapm.org/events/calendar/event/172-map-delegate-council-mee
 tings-held-every-month-on-the-2nd-tuesday
END:VEVENT
BEGIN:VEVENT
UID:20260422T174312UTC-0973uHZ0BK@https://www.mapm.org/
DTSTAMP:20260422T174312Z
DESCRIPTION:Join members of the Interfaith Coalition on Immigration (ICOM) 
 on the second Tuesday of every month. Raise your voice in prayer and prote
 st about the separation of families that happens in the Twin Cities daily.
 The vigil starts at 7:30 a.m. in the courtyard. Stay afterwards for Court 
 Watch that begins at 9:00 a.m. https://www.mapm.org/events/calendar/event/
 264-interfaith-coalition-on-immigration-icom-vigil
DTSTART:20200414T073000Z
DTEND:20200414T090000Z
LOCATION:Bishop Henry Whipple Building (1 Federal Drive\, St. Paul\, MN  55
 111)
SUMMARY:Interfaith Coalition on Immigration (ICOM) Vigil
URL:https://www.mapm.org/events/calendar/event/264-interfaith-coalition-on-
 immigration-icom-vigil
END:VEVENT
BEGIN:VEVENT
UID:20260422T174312UTC-0974nTGBLU@https://www.mapm.org/
DTSTAMP:20260422T174312Z
DESCRIPTION:Cost: FREE\n\nDescription: \n\nOur stories celebrate the 100th 
 anniversary of the birth of innovative Italian educator Gianni Rodari. His
  Grammar of Fantasy\, translated by folklorist Jack Zipes\, encourages ima
 gination in education. We are also cognizant that Einstein said: “Imaginat
 ion is more important than knowledge.” And we believe that too often those
  most imaginative and creative are dismissed by dominant culture as “crazy
 ” or “down and out.” \n\n6:00 p.m. RECEPTION and INFORMATION TABLING with 
 STORY ARTS MN\, BLACK STORYTELLERS ALLIANCE\, PLYMOUTH STROBEL DROP-IN\, P
 LYMOUTH OUTREACH\, and other organizations reflecting Plymouth Church’s ex
 tensive social justice outreach in areas of mental health\, racism\, homel
 essness\, gun violence\,  environment\, education and more. \n\nStorytelle
 rs:\n\nHANNAH CAMPBELL GUSTAFSON: Outreach Coordinator for Plymouth Church
  \n\nBARBARA HAVERBERG: World’s Best Public Transit User and Strobel Drop-
 in Participant to the Max \n\nLARRY JOHNSON: Strobel Drop-in Coordinator\;
  World Storytelling Day Organizer\; author of Sixty-One and  Winner of 201
 9 Veterans Voices Award from the Mn Humanities Center  \n\nTONY WENTERSDOR
 F: Musician/Storyteller\; Bob Dylan Sound-Alike Contest winner\; speaker f
 or NAMI \n\nJACK ZIPES: U of M Professor Emeritus\; originator of Children
 ’s Theatre Neighborhood Bridges program\; internationally known authority 
 on storytelling and folklore\; author\, editor\, translator of over 50 boo
 ks. \n\nNOTHANDO ZULU: Director of Black Storytellers Alliance and the ann
 ual Minnesota  Signifyin’ and Testifyin’ Black Storytellers Festival. \n\n
 Sponsored by Plymouth Congregational Church https://www.mapm.org/events/ca
 lendar/event/327-world-storytelling-day-2020-voyages-of-the-imagination
DTSTART:20200416T180000Z
DTEND:20200416T210000Z
LOCATION:Plymouth Congregational Church\, Minneapolis (1900 Nicollet Ave\, 
 Minneapolis\, MN 55403\, USA)
SUMMARY:World Storytelling Day 2020: VOYAGES OF THE IMAGINATION
URL:https://www.mapm.org/events/calendar/event/327-world-storytelling-day-2
 020-voyages-of-the-imagination
END:VEVENT
END:VCALENDAR
