BEGIN:VCALENDAR
VERSION:2.0
PRODID:-//https://www.mapm.org///NONSGML kigkonsult.se iCalcreator 2.10.15//
METHOD:PUBLISH
BEGIN:VEVENT
UID:20260424T084321UTC-24010I98DN@https://www.mapm.org/
DTSTAMP:20260424T084321Z
DESCRIPTION:Mel Duncan\, Co-Founder of Nonviolent Peaceforce (NP)\, Directo
 r of Advocacy and Outreach and John Reuwer\, retired medical doctor and Bo
 ard Member for World Beyond War will present about stopping the spread of 
 violence and Coronavirus in conflict areas. John spent four months working
  in South Sudan with NP. There will a short presentation followed by Q & A
 . \n\nJoin via Zoom with Meeting ID 892 3490 1289\n\nThis event was organi
 zed and sponsored by The Villages World Beyond War's chapter in Central Fl
 orida and Veterans for Peace. https://www.mapm.org/events/calendar/event/3
 59-preventing-violence-and-virus
DTSTART:20200521T130000Z
DTEND:20200521T140000Z
LOCATION:Zoom Video Conference ()
SUMMARY:Preventing Violence and Virus 
URL:https://www.mapm.org/events/calendar/event/359-preventing-violence-and-
 virus
END:VEVENT
END:VCALENDAR
