BEGIN:VCALENDAR
VERSION:2.0
PRODID:-//https://www.mapm.org///NONSGML kigkonsult.se iCalcreator 2.10.15//
METHOD:PUBLISH
BEGIN:VEVENT
UID:20260424T093733UTC-9420iZzcwb@https://www.mapm.org/
DTSTAMP:20260424T093733Z
DESCRIPTION:When: Fourth Monday of each month\, January through October\, 6
 :30 – 8:30 p.m.Facilitator: Philip Lund loftpeacewriters@gmail.com\nThis g
 roup is comprised of writers who consciously explore the nature of peace\,
  and through our activities aim to renew and maintain a sense of hope for 
 the future. By sharing our writing and discussing the works of writers who
  inspire and move us toward action\, we endeavor to refine our talents and
  use our creative craft to promote peace and sustainable justice in our wo
 rld. The group is open to all experience levels and writing genres. https:
 //www.mapm.org/events/calendar/event/83-peace-and-social-justice-writers-g
 roup
DTSTART:20190923T183000Z
DTEND:20190923T203000Z
LOCATION:The Loft Literary Center (1011 Washington Avenue South\, Open Book
 \, Suite 200\, Minneapolis\, MN 55415\, United States)
SUMMARY:Peace and Social Justice Writers’ Group
URL:https://www.mapm.org/events/calendar/event/83-peace-and-social-justice-
 writers-group
END:VEVENT
BEGIN:VEVENT
UID:20260424T093733UTC-9421IEZDgv@https://www.mapm.org/
DTSTAMP:20260424T093733Z
DESCRIPTION:Twin Cities Nonviolent is coordinating&nbsp\;10 Days Free From 
 Violence&nbsp\;in September 2019. Join us 20-29 September 2019 to particip
 ate in nonviolent activities all around the Twin Cities. A listing of even
 ts can be found at&nbsp\;https://twincitiesnonviolent.org/\nEVENT SUBMISSI
 ONS&nbsp\;FOR 2019 OPEN NOW!&nbsp\;Click the link below to get started!htt
 ps://twincitiesnonviolent.org/registration/ https://www.mapm.org/events/ca
 lendar/event/101-ten-days-free-from-violence-sept-20-29
DTSTART:20190920T050000Z
DTEND:20190929T230000Z
LOCATION:miscellaneous locations - see website ()
SUMMARY:Ten Days Free From Violence\, Sept. 20-29
URL:https://www.mapm.org/events/calendar/event/101-ten-days-free-from-viole
 nce-sept-20-29
END:VEVENT
BEGIN:VEVENT
UID:20260424T093733UTC-9422PudiZb@https://www.mapm.org/
DTSTAMP:20260424T093733Z
DESCRIPTION:In Jackman/Lenmark rooms\n\nIn America today\, asylum seekers a
 nd other immigrants are extremely\nvulnerable to violence inflicted by the
  U.S. immigration system.\n\nPARTICIPANTS WILL EXPLORE:\n\n\n-How the U.S.
  immigration & asylum system impacts human rights\n-The capabilities they 
 have within themselves to provide protection\nfor civilians facing violenc
 e\n-How to use nonviolent human rights strategies & tactics to keep\nvulne
 rable groups safer & more secure\n-What resources & legal statutes are in 
 place to protect people\nseeking refuge\n-How to report human rights viola
 tions & seek justice https://www.mapm.org/events/calendar/event/196-nonvio
 lence-at-the-border-beyond-protecting-the-human-rights-of-asylum-seekers-i
 mmigrants
DTSTART:20190923T170000Z
DTEND:20190923T183000Z
LOCATION:Plymouth Congregational Church\, Minneapolis (1900 Nicollet Ave\, 
 Minneapolis\, MN 55403\, USA)
SUMMARY:Nonviolence at the Border & Beyond: Protecting the Human Rights of 
 Asylum Seekers & Immigrants 
URL:https://www.mapm.org/events/calendar/event/196-nonviolence-at-the-borde
 r-beyond-protecting-the-human-rights-of-asylum-seekers-immigrants
END:VEVENT
BEGIN:VEVENT
UID:20260424T093733UTC-9423kCHvLN@https://www.mapm.org/
DTSTAMP:20260424T093733Z
DESCRIPTION:IARP is delighted to collaborate with the Metropolitan Regional
  Arts Council (MRAC) to host an upcoming exhibit of Iraqi and Iraqi-Americ
 an art\, “Iraq Through Our Eyes.”  The exhibit will feature work by contem
 porary Iraqi and Iraq-American artists: Jamal Penjweny\, Jaafar Alnabi\, F
 atin Al-Jumaily\, and Adnan Shati.  \n\n'Flying is a metaphor that works o
 n many levels.  I wanted to show how we all carry a bit of the child withi
 n us\, and to show a side to Iraq that isn’t tragic” - Penjweny \n\nThe ex
 hibit will be on view from September 3 to November 27\, 2019\, in the MRAC
  conference room.  Visitors are encouraged to call ahead to assure that th
 e space is available for viewing\, and weekend or evening hours can be arr
 anged with advance notice.   https://www.mapm.org/events/calendar/event/20
 1-iraq-through-our-eyes-art-exhibit
DTSTART:20190903T153300Z
DTEND:20191127T173300Z
LOCATION:Metropolitan Regional Arts Council (2324 University Ave W #114 Mid
 town Commons St Paul\, MN 55114)
SUMMARY:Iraq Through Our Eyes - Art Exhibit
URL:https://www.mapm.org/events/calendar/event/201-iraq-through-our-eyes-ar
 t-exhibit
END:VEVENT
BEGIN:VEVENT
UID:20260424T093733UTC-94243LoTbn@https://www.mapm.org/
DTSTAMP:20260424T093733Z
DESCRIPTION:Some comments from reviews of the film:  'Just based on intenti
 on alone\, it feels impossible and even somewhat irresponsible to critique
  Tiny Souls but fortunately the execution is rather wonderful.'  Film Inqu
 iry\n\n'Tiny Souls doesn't shy away from harsh reality\, but is distinguis
 hed by the way it draws out the signs of optimism and normality that endur
 e against all the odds.'  Screen International\n\n'The standout feature of
  Tiny Souls is the authenticity and frankness in the assessments that Marw
 a and her siblings make of their own lives.'  CineEuropa https://www.mapm.
 org/events/calendar/event/204-syrian-film-tiny-souls-at-mizna-arab-film-fe
 st
DTSTART:20190928T122500Z
DTEND:20190928T140000Z
LOCATION:St Anthony Main Theater (115 Main St NE\, Minneapolis)
SUMMARY:Syrian film 'Tiny Souls' at Mizna Arab Film Fest
URL:https://www.mapm.org/events/calendar/event/204-syrian-film-tiny-souls-a
 t-mizna-arab-film-fest
END:VEVENT
END:VCALENDAR
